Package: alabaster.files Version: 1.2.0 Command: chmod a+r alabaster.files -R && F:\biocbuild\bbs-3.19-bioc\R\bin\R.exe CMD build --keep-empty-dirs --no-resave-data alabaster.files StartedAt: 2024-06-26 17:02:20 -0400 (Wed, 26 Jun 2024) EndedAt: 2024-06-26 17:02:51 -0400 (Wed, 26 Jun 2024) EllapsedTime: 31.0 seconds RetCode: 0 Status: OK PackageFile: alabaster.files_1.2.0.tar.gz PackageFileSize: 234.2 KiB