Package: alabaster.files Version: 1.2.0 Command: rm -rf alabaster.files.buildbin-libdir && mkdir alabaster.files.buildbin-libdir && F:\biocbuild\bbs-3.19-bioc\R\bin\R.exe CMD INSTALL --build --library=alabaster.files.buildbin-libdir alabaster.files_1.2.0.tar.gz StartedAt: 2024-06-27 07:48:41 -0400 (Thu, 27 Jun 2024) EndedAt: 2024-06-27 07:49:01 -0400 (Thu, 27 Jun 2024) EllapsedTime: 20.4 seconds RetCode: 0 Status: OK PackageFile: alabaster.files_1.2.0.zip PackageFileSize: 566 KiB