Package: alabaster.files Version: 1.2.0 Command: /home/biocbuild/bbs-3.19-bioc/R/bin/R CMD check --install=check:alabaster.files.install-out.txt --library=/home/biocbuild/bbs-3.19-bioc/R/site-library --timings alabaster.files_1.2.0.tar.gz StartedAt: 2024-10-16 21:33:00 -0400 (Wed, 16 Oct 2024) EndedAt: 2024-10-16 21:34:58 -0400 (Wed, 16 Oct 2024) EllapsedTime: 118.3 seconds RetCode: 0 Status: OK CheckDir: alabaster.files.Rcheck Warnings: 0