Package: alabaster.files Version: 1.2.0 Command: /home/biocbuild/bbs-3.19-bioc/R/bin/R CMD build --keep-empty-dirs --no-resave-data alabaster.files StartedAt: 2024-10-16 16:52:51 -0400 (Wed, 16 Oct 2024) EndedAt: 2024-10-16 16:53:11 -0400 (Wed, 16 Oct 2024) EllapsedTime: 20.0 seconds RetCode: 0 Status: OK PackageFile: alabaster.files_1.2.0.tar.gz PackageFileSize: 234.2 KiB