Package: alabaster.bumpy Version: 1.4.0 Command: rm -rf alabaster.bumpy.buildbin-libdir && mkdir alabaster.bumpy.buildbin-libdir && F:\biocbuild\bbs-3.19-bioc\R\bin\R.exe CMD INSTALL --build --library=alabaster.bumpy.buildbin-libdir alabaster.bumpy_1.4.0.tar.gz StartedAt: 2024-06-27 07:48:40 -0400 (Thu, 27 Jun 2024) EndedAt: 2024-06-27 07:48:59 -0400 (Thu, 27 Jun 2024) EllapsedTime: 19.9 seconds RetCode: 0 Status: OK PackageFile: alabaster.bumpy_1.4.0.zip PackageFileSize: 274.2 KiB