Package: alabaster.bumpy Version: 1.4.0 Command: /Library/Frameworks/R.framework/Resources/bin/R CMD INSTALL alabaster.bumpy StartedAt: 2024-10-16 15:23:15 -0400 (Wed, 16 Oct 2024) EndedAt: 2024-10-16 15:23:43 -0400 (Wed, 16 Oct 2024) EllapsedTime: 28.1 seconds RetCode: 0 Status: OK