Package: alabaster.bumpy Version: 1.4.0 Command: /Library/Frameworks/R.framework/Resources/bin/R CMD build --keep-empty-dirs --no-resave-data alabaster.bumpy StartedAt: 2024-10-16 17:00:06 -0400 (Wed, 16 Oct 2024) EndedAt: 2024-10-16 17:00:50 -0400 (Wed, 16 Oct 2024) EllapsedTime: 43.3 seconds RetCode: 0 Status: OK PackageFile: alabaster.bumpy_1.4.0.tar.gz PackageFileSize: 235.4 KiB