Package: alabaster.bumpy Version: 1.4.0 Command: rm -rf alabaster.bumpy.buildbin-libdir && mkdir alabaster.bumpy.buildbin-libdir && /Users/biocbuild/BBS/utils/build-universal.sh alabaster.bumpy_1.4.0.tar.gz /Library/Frameworks/R.framework/Resources/bin/R alabaster.bumpy.buildbin-libdir StartedAt: 2024-06-10 00:06:07 -0400 (Mon, 10 Jun 2024) EndedAt: 2024-06-10 00:06:25 -0400 (Mon, 10 Jun 2024) EllapsedTime: 18.1 seconds RetCode: 0 Status: OK PackageFile: alabaster.bumpy_1.4.0.tgz PackageFileSize: 269.5 KiB