Package: alabaster.base Version: 1.4.2 Command: E:\biocbuild\bbs-3.19-bioc\R\bin\R.exe CMD check --no-multiarch --install=check:alabaster.base.install-out.txt --library=E:\biocbuild\bbs-3.19-bioc\R\library --no-vignettes --timings alabaster.base_1.4.2.tar.gz StartedAt: 2024-10-16 22:45:09 -0400 (Wed, 16 Oct 2024) EndedAt: 2024-10-16 22:47:49 -0400 (Wed, 16 Oct 2024) EllapsedTime: 159.5 seconds RetCode: 0 Status: OK CheckDir: alabaster.base.Rcheck Warnings: 0