Package: alabaster.base Version: 1.4.2 Command: chmod a+r alabaster.base -R && E:\biocbuild\bbs-3.19-bioc\R\bin\R.exe CMD build --keep-empty-dirs --no-resave-data alabaster.base StartedAt: 2024-10-16 17:30:56 -0400 (Wed, 16 Oct 2024) EndedAt: 2024-10-16 17:33:02 -0400 (Wed, 16 Oct 2024) EllapsedTime: 125.9 seconds RetCode: 0 Status: OK PackageFile: alabaster.base_1.4.2.tar.gz PackageFileSize: 395.4 KiB