Package: alabaster.base Version: 1.4.2 Command: /Library/Frameworks/R.framework/Resources/bin/R CMD build --keep-empty-dirs --no-resave-data alabaster.base StartedAt: 2024-10-16 16:59:57 -0400 (Wed, 16 Oct 2024) EndedAt: 2024-10-16 17:03:18 -0400 (Wed, 16 Oct 2024) EllapsedTime: 201.3 seconds RetCode: 0 Status: OK PackageFile: alabaster.base_1.4.2.tar.gz PackageFileSize: 395 KiB