Package: alabaster.base Version: 1.4.1 Command: /Library/Frameworks/R.framework/Resources/bin/R CMD check --install=check:alabaster.base.install-out.txt --library=/Library/Frameworks/R.framework/Resources/library --no-vignettes --timings alabaster.base_1.4.1.tar.gz StartedAt: 2024-06-09 18:41:33 -0400 (Sun, 09 Jun 2024) EndedAt: 2024-06-09 18:43:21 -0400 (Sun, 09 Jun 2024) EllapsedTime: 108.6 seconds RetCode: 0 Status: WARNINGS CheckDir: alabaster.base.Rcheck Warnings: 1