Package: alabaster.base Version: 1.4.1 Command: /home/biocbuild/R/R-beta-2024-04-15_r86425/bin/R CMD check --install=check:alabaster.base.install-out.txt --library=/home/biocbuild/R/R-beta-2024-04-15_r86425/site-library --no-vignettes --timings alabaster.base_1.4.1.tar.gz StartedAt: 2024-05-09 04:39:52 -0000 (Thu, 09 May 2024) EndedAt: 2024-05-09 04:42:07 -0000 (Thu, 09 May 2024) EllapsedTime: 135.3 seconds RetCode: 0 Status: WARNINGS CheckDir: alabaster.base.Rcheck Warnings: 1