Package: alabaster.base Version: 1.4.1 Command: /home/biocbuild/R/R-beta-2024-04-15_r86425/bin/R CMD build --keep-empty-dirs --no-resave-data alabaster.base StartedAt: 2024-05-08 22:15:31 -0000 (Wed, 08 May 2024) EndedAt: 2024-05-08 22:18:17 -0000 (Wed, 08 May 2024) EllapsedTime: 166.2 seconds RetCode: 0 Status: OK PackageFile: alabaster.base_1.4.1.tar.gz PackageFileSize: 419.7 KiB