Package: alabaster.base Version: 1.4.1 Command: /Library/Frameworks/R.framework/Resources/bin/R CMD INSTALL alabaster.base StartedAt: 2024-06-09 15:11:42 -0400 (Sun, 09 Jun 2024) EndedAt: 2024-06-09 15:13:21 -0400 (Sun, 09 Jun 2024) EllapsedTime: 98.9 seconds RetCode: 0 Status: OK