Package: alabaster.base Version: 1.4.2 Command: /Library/Frameworks/R.framework/Resources/bin/R CMD INSTALL alabaster.base StartedAt: 2024-10-16 15:49:18 -0400 (Wed, 16 Oct 2024) EndedAt: 2024-10-16 15:50:39 -0400 (Wed, 16 Oct 2024) EllapsedTime: 80.7 seconds RetCode: 0 Status: OK