Package: alabaster.base Version: 1.4.2 Command: /Library/Frameworks/R.framework/Resources/bin/R CMD check --install=check:alabaster.base.install-out.txt --library=/Library/Frameworks/R.framework/Resources/library --no-vignettes --timings alabaster.base_1.4.2.tar.gz StartedAt: 2024-10-17 11:57:46 -0400 (Thu, 17 Oct 2024) EndedAt: 2024-10-17 11:59:40 -0400 (Thu, 17 Oct 2024) EllapsedTime: 113.8 seconds RetCode: 0 Status: WARNINGS CheckDir: alabaster.base.Rcheck Warnings: 1