Package: alabaster.base Version: 1.4.2 Command: rm -rf alabaster.base.buildbin-libdir && mkdir alabaster.base.buildbin-libdir && /Users/biocbuild/BBS/utils/build-universal.sh alabaster.base_1.4.2.tar.gz /Library/Frameworks/R.framework/Resources/bin/R alabaster.base.buildbin-libdir StartedAt: 2024-10-18 17:13:42 -0400 (Fri, 18 Oct 2024) EndedAt: 2024-10-18 17:15:25 -0400 (Fri, 18 Oct 2024) EllapsedTime: 103.2 seconds RetCode: 0 Status: OK PackageFile: alabaster.base_1.4.2.tgz PackageFileSize: 2.128 MiB