Package: agilp Version: 3.36.0 Command: E:\biocbuild\bbs-3.19-bioc\R\bin\R.exe CMD INSTALL agilp StartedAt: 2024-10-16 15:58:18 -0400 (Wed, 16 Oct 2024) EndedAt: 2024-10-16 15:58:28 -0400 (Wed, 16 Oct 2024) EllapsedTime: 9.7 seconds RetCode: 0 Status: OK