Package: agilp Version: 3.36.0 Command: E:\biocbuild\bbs-3.19-bioc\R\bin\R.exe CMD check --no-multiarch --install=check:agilp.install-out.txt --library=E:\biocbuild\bbs-3.19-bioc\R\library --no-vignettes --timings agilp_3.36.0.tar.gz StartedAt: 2024-10-16 22:44:03 -0400 (Wed, 16 Oct 2024) EndedAt: 2024-10-16 22:44:28 -0400 (Wed, 16 Oct 2024) EllapsedTime: 25.5 seconds RetCode: 0 Status: OK CheckDir: agilp.Rcheck Warnings: 0