Package: agilp Version: 3.36.0 Command: rm -rf agilp.buildbin-libdir && mkdir agilp.buildbin-libdir && E:\biocbuild\bbs-3.19-bioc\R\bin\R.exe CMD INSTALL --build --library=agilp.buildbin-libdir agilp_3.36.0.tar.gz StartedAt: 2024-10-17 07:18:31 -0400 (Thu, 17 Oct 2024) EndedAt: 2024-10-17 07:18:43 -0400 (Thu, 17 Oct 2024) EllapsedTime: 11.5 seconds RetCode: 0 Status: OK PackageFile: agilp_3.36.0.zip PackageFileSize: 387.5 KiB