Package: agilp Version: 3.36.0 Command: /home/biocbuild/bbs-3.19-bioc/R/bin/R CMD INSTALL agilp StartedAt: 2024-10-16 15:49:03 -0400 (Wed, 16 Oct 2024) EndedAt: 2024-10-16 15:49:12 -0400 (Wed, 16 Oct 2024) EllapsedTime: 8.8 seconds RetCode: 0 Status: OK