Package: agilp Version: 3.36.0 Command: /home/biocbuild/bbs-3.19-bioc/R/bin/R CMD build --keep-empty-dirs --no-resave-data agilp StartedAt: 2024-10-16 16:52:30 -0400 (Wed, 16 Oct 2024) EndedAt: 2024-10-16 16:52:35 -0400 (Wed, 16 Oct 2024) EllapsedTime: 5.0 seconds RetCode: 0 Status: OK PackageFile: agilp_3.36.0.tar.gz PackageFileSize: 344.1 KiB