Package: agilp Version: 3.36.0 Command: /Library/Frameworks/R.framework/Resources/bin/R CMD check --install=check:agilp.install-out.txt --library=/Library/Frameworks/R.framework/Resources/library --no-vignettes --timings agilp_3.36.0.tar.gz StartedAt: 2024-10-17 11:54:50 -0400 (Thu, 17 Oct 2024) EndedAt: 2024-10-17 11:55:14 -0400 (Thu, 17 Oct 2024) EllapsedTime: 23.5 seconds RetCode: 0 Status: OK CheckDir: agilp.Rcheck Warnings: 0