Package: aggregateBioVar Version: 1.14.0 Command: chmod a+r aggregateBioVar -R && E:\biocbuild\bbs-3.19-bioc\R\bin\R.exe CMD build --keep-empty-dirs --no-resave-data aggregateBioVar StartedAt: 2024-10-16 17:30:21 -0400 (Wed, 16 Oct 2024) EndedAt: 2024-10-16 17:32:17 -0400 (Wed, 16 Oct 2024) EllapsedTime: 115.7 seconds RetCode: 0 Status: OK PackageFile: aggregateBioVar_1.14.0.tar.gz PackageFileSize: 990.1 KiB