Package: aggregateBioVar Version: 1.14.0 Command: F:\biocbuild\bbs-3.19-bioc\R\bin\R.exe CMD INSTALL aggregateBioVar StartedAt: 2024-06-26 15:53:57 -0400 (Wed, 26 Jun 2024) EndedAt: 2024-06-26 15:54:33 -0400 (Wed, 26 Jun 2024) EllapsedTime: 35.9 seconds RetCode: 0 Status: OK