Package: aggregateBioVar Version: 1.14.0 Command: /home/biocbuild/bbs-3.19-bioc/R/bin/R CMD build --keep-empty-dirs --no-resave-data aggregateBioVar StartedAt: 2024-10-16 16:52:23 -0400 (Wed, 16 Oct 2024) EndedAt: 2024-10-16 16:53:45 -0400 (Wed, 16 Oct 2024) EllapsedTime: 82.2 seconds RetCode: 0 Status: OK PackageFile: aggregateBioVar_1.14.0.tar.gz PackageFileSize: 1.162 MiB