Package: aggregateBioVar Version: 1.14.0 Command: rm -rf aggregateBioVar.buildbin-libdir && mkdir aggregateBioVar.buildbin-libdir && /Users/biocbuild/BBS/utils/build-universal.sh aggregateBioVar_1.14.0.tar.gz /Library/Frameworks/R.framework/Resources/bin/R aggregateBioVar.buildbin-libdir StartedAt: 2024-06-11 10:03:56 -0400 (Tue, 11 Jun 2024) EndedAt: 2024-06-11 10:04:38 -0400 (Tue, 11 Jun 2024) EllapsedTime: 41.7 seconds RetCode: 0 Status: OK PackageFile: aggregateBioVar_1.14.0.tgz PackageFileSize: 1.782 MiB