Package: affylmGUI Version: 1.78.0 Command: E:\biocbuild\bbs-3.19-bioc\R\bin\R.exe CMD check --no-multiarch --install=check:affylmGUI.install-out.txt --library=E:\biocbuild\bbs-3.19-bioc\R\library --no-vignettes --timings affylmGUI_1.78.0.tar.gz StartedAt: 2024-10-16 22:43:38 -0400 (Wed, 16 Oct 2024) EndedAt: 2024-10-16 22:45:34 -0400 (Wed, 16 Oct 2024) EllapsedTime: 115.8 seconds RetCode: 0 Status: OK CheckDir: affylmGUI.Rcheck Warnings: 0