Package: affylmGUI Version: 1.78.0 Command: rm -rf affylmGUI.buildbin-libdir && mkdir affylmGUI.buildbin-libdir && E:\biocbuild\bbs-3.19-bioc\R\bin\R.exe CMD INSTALL --build --library=affylmGUI.buildbin-libdir affylmGUI_1.78.0.tar.gz StartedAt: 2024-10-17 07:18:24 -0400 (Thu, 17 Oct 2024) EndedAt: 2024-10-17 07:19:09 -0400 (Thu, 17 Oct 2024) EllapsedTime: 45.3 seconds RetCode: 0 Status: OK PackageFile: affylmGUI_1.78.0.zip PackageFileSize: 2.069 MiB