Package: affylmGUI Version: 1.78.0 Command: /home/biocbuild/bbs-3.19-bioc/R/bin/R CMD INSTALL affylmGUI StartedAt: 2024-10-16 16:10:59 -0400 (Wed, 16 Oct 2024) EndedAt: 2024-10-16 16:11:21 -0400 (Wed, 16 Oct 2024) EllapsedTime: 21.3 seconds RetCode: 0 Status: OK