Package: affylmGUI Version: 1.78.0 Command: /home/biocbuild/bbs-3.19-bioc/R/bin/R CMD check --install=check:affylmGUI.install-out.txt --library=/home/biocbuild/bbs-3.19-bioc/R/site-library --timings affylmGUI_1.78.0.tar.gz StartedAt: 2024-10-16 21:31:21 -0400 (Wed, 16 Oct 2024) EndedAt: 2024-10-16 21:33:00 -0400 (Wed, 16 Oct 2024) EllapsedTime: 99.2 seconds RetCode: 0 Status: OK CheckDir: affylmGUI.Rcheck Warnings: 0