Package: affylmGUI Version: 1.78.0 Command: /Library/Frameworks/R.framework/Resources/bin/R CMD INSTALL affylmGUI StartedAt: 2024-10-16 15:45:12 -0400 (Wed, 16 Oct 2024) EndedAt: 2024-10-16 15:46:09 -0400 (Wed, 16 Oct 2024) EllapsedTime: 57.1 seconds RetCode: 0 Status: OK