Package: affylmGUI Version: 1.78.0 Command: rm -rf affylmGUI.buildbin-libdir && mkdir affylmGUI.buildbin-libdir && /Users/biocbuild/BBS/utils/build-universal.sh affylmGUI_1.78.0.tar.gz /Library/Frameworks/R.framework/Resources/bin/R affylmGUI.buildbin-libdir StartedAt: 2024-10-17 15:36:04 -0400 (Thu, 17 Oct 2024) EndedAt: 2024-10-17 15:37:07 -0400 (Thu, 17 Oct 2024) EllapsedTime: 63.2 seconds RetCode: 0 Status: OK PackageFile: affylmGUI_1.78.0.tgz PackageFileSize: 2.146 MiB