Package: affylmGUI Version: 1.78.0 Command: rm -rf affylmGUI.buildbin-libdir && mkdir affylmGUI.buildbin-libdir && /Users/biocbuild/BBS/utils/build-universal.sh affylmGUI_1.78.0.tar.gz /Library/Frameworks/R.framework/Resources/bin/R affylmGUI.buildbin-libdir StartedAt: 2024-06-10 00:05:56 -0400 (Mon, 10 Jun 2024) EndedAt: 2024-06-10 00:06:35 -0400 (Mon, 10 Jun 2024) EllapsedTime: 38.5 seconds RetCode: 0 Status: OK PackageFile: affylmGUI_1.78.0.tgz PackageFileSize: 2.145 MiB