Package: affylmGUI Version: 1.78.0 Command: /Library/Frameworks/R.framework/Resources/bin/R CMD INSTALL affylmGUI StartedAt: 2024-10-16 16:20:04 -0400 (Wed, 16 Oct 2024) EndedAt: 2024-10-16 16:20:29 -0400 (Wed, 16 Oct 2024) EllapsedTime: 24.6 seconds RetCode: 0 Status: OK