Package: affylmGUI Version: 1.78.0 Command: /Library/Frameworks/R.framework/Resources/bin/R CMD build --keep-empty-dirs --no-resave-data affylmGUI StartedAt: 2024-10-16 19:10:04 -0400 (Wed, 16 Oct 2024) EndedAt: 2024-10-16 19:10:24 -0400 (Wed, 16 Oct 2024) EllapsedTime: 19.5 seconds RetCode: 0 Status: OK PackageFile: affylmGUI_1.78.0.tar.gz PackageFileSize: 1.758 MiB