Package: affylmGUI Version: 1.78.0 Command: rm -rf affylmGUI.buildbin-libdir && mkdir affylmGUI.buildbin-libdir && /Users/biocbuild/BBS/utils/build-universal.sh affylmGUI_1.78.0.tar.gz /Library/Frameworks/R.framework/Resources/bin/R affylmGUI.buildbin-libdir StartedAt: 2024-10-18 17:12:27 -0400 (Fri, 18 Oct 2024) EndedAt: 2024-10-18 17:13:15 -0400 (Fri, 18 Oct 2024) EllapsedTime: 47.8 seconds RetCode: 0 Status: OK PackageFile: affylmGUI_1.78.0.tgz PackageFileSize: 2.146 MiB