Package: affyio Version: 1.74.0 Command: rm -rf affyio.buildbin-libdir && mkdir affyio.buildbin-libdir && E:\biocbuild\bbs-3.19-bioc\R\bin\R.exe CMD INSTALL --build --library=affyio.buildbin-libdir affyio_1.74.0.tar.gz StartedAt: 2024-10-17 07:18:21 -0400 (Thu, 17 Oct 2024) EndedAt: 2024-10-17 07:18:47 -0400 (Thu, 17 Oct 2024) EllapsedTime: 26.4 seconds RetCode: 0 Status: OK PackageFile: affyio_1.74.0.zip PackageFileSize: 93.87 KiB