Package: affyio Version: 1.74.0 Command: /home/biocbuild/bbs-3.19-bioc/R/bin/R CMD build --keep-empty-dirs --no-resave-data affyio StartedAt: 2024-10-16 16:52:11 -0400 (Wed, 16 Oct 2024) EndedAt: 2024-10-16 16:52:12 -0400 (Wed, 16 Oct 2024) EllapsedTime: 1.0 seconds RetCode: 0 Status: OK PackageFile: affyio_1.74.0.tar.gz PackageFileSize: 107.8 KiB