Package: affyio Version: 1.74.0 Command: /Library/Frameworks/R.framework/Resources/bin/R CMD check --install=check:affyio.install-out.txt --library=/Library/Frameworks/R.framework/Resources/library --no-vignettes --timings affyio_1.74.0.tar.gz StartedAt: 2024-06-09 18:40:12 -0400 (Sun, 09 Jun 2024) EndedAt: 2024-06-09 18:40:46 -0400 (Sun, 09 Jun 2024) EllapsedTime: 33.5 seconds RetCode: 0 Status: WARNINGS CheckDir: affyio.Rcheck Warnings: 2