Package: affycoretools Version: 1.76.0 Command: chmod a+r affycoretools -R && E:\biocbuild\bbs-3.19-bioc\R\bin\R.exe CMD build --keep-empty-dirs --no-resave-data affycoretools StartedAt: 2024-10-16 17:30:01 -0400 (Wed, 16 Oct 2024) EndedAt: 2024-10-16 17:32:13 -0400 (Wed, 16 Oct 2024) EllapsedTime: 131.5 seconds RetCode: 0 Status: OK PackageFile: affycoretools_1.76.0.tar.gz PackageFileSize: 6.588 MiB