Package: affycoretools Version: 1.76.0 Command: chmod a+r affycoretools -R && F:\biocbuild\bbs-3.19-bioc\R\bin\R.exe CMD build --keep-empty-dirs --no-resave-data affycoretools StartedAt: 2024-06-26 17:01:23 -0400 (Wed, 26 Jun 2024) EndedAt: 2024-06-26 17:03:33 -0400 (Wed, 26 Jun 2024) EllapsedTime: 130.2 seconds RetCode: 0 Status: OK PackageFile: affycoretools_1.76.0.tar.gz PackageFileSize: 6.588 MiB