Package: affycoretools Version: 1.76.0 Command: /Library/Frameworks/R.framework/Resources/bin/R CMD check --install=check:affycoretools.install-out.txt --library=/Library/Frameworks/R.framework/Resources/library --no-vignettes --timings affycoretools_1.76.0.tar.gz StartedAt: 2024-06-10 06:57:50 -0400 (Mon, 10 Jun 2024) EndedAt: 2024-06-10 07:08:42 -0400 (Mon, 10 Jun 2024) EllapsedTime: 652.6 seconds RetCode: 0 Status: OK CheckDir: affycoretools.Rcheck Warnings: 0