Package: affycoretools Version: 1.76.0 Command: rm -rf affycoretools.buildbin-libdir && mkdir affycoretools.buildbin-libdir && /Users/biocbuild/BBS/utils/build-universal.sh affycoretools_1.76.0.tar.gz /Library/Frameworks/R.framework/Resources/bin/R affycoretools.buildbin-libdir StartedAt: 2024-06-11 10:03:36 -0400 (Tue, 11 Jun 2024) EndedAt: 2024-06-11 10:05:36 -0400 (Tue, 11 Jun 2024) EllapsedTime: 120.3 seconds RetCode: 0 Status: OK PackageFile: affycoretools_1.76.0.tgz PackageFileSize: 570.9 KiB