Package: affycomp Version: 1.80.0 Command: chmod a+r affycomp -R && E:\biocbuild\bbs-3.19-bioc\R\bin\R.exe CMD build --keep-empty-dirs --no-resave-data affycomp StartedAt: 2024-10-16 17:29:51 -0400 (Wed, 16 Oct 2024) EndedAt: 2024-10-16 17:30:13 -0400 (Wed, 16 Oct 2024) EllapsedTime: 22.5 seconds RetCode: 0 Status: OK PackageFile: affycomp_1.80.0.tar.gz PackageFileSize: 7.878 MiB