Package: affyPLM Version: 1.80.0 Command: E:\biocbuild\bbs-3.19-bioc\R\bin\R.exe CMD check --no-multiarch --install=check:affyPLM.install-out.txt --library=E:\biocbuild\bbs-3.19-bioc\R\library --no-vignettes --timings affyPLM_1.80.0.tar.gz StartedAt: 2024-10-16 22:43:44 -0400 (Wed, 16 Oct 2024) EndedAt: 2024-10-16 22:46:33 -0400 (Wed, 16 Oct 2024) EllapsedTime: 169.1 seconds RetCode: 0 Status: WARNINGS CheckDir: affyPLM.Rcheck Warnings: 1