Package: affyPLM Version: 1.80.0 Command: chmod a+r affyPLM -R && E:\biocbuild\bbs-3.19-bioc\R\bin\R.exe CMD build --keep-empty-dirs --no-resave-data affyPLM StartedAt: 2024-10-16 17:30:16 -0400 (Wed, 16 Oct 2024) EndedAt: 2024-10-16 17:33:46 -0400 (Wed, 16 Oct 2024) EllapsedTime: 210.9 seconds RetCode: 0 Status: OK PackageFile: affyPLM_1.80.0.tar.gz PackageFileSize: 4.566 MiB