Package: affyPLM Version: 1.80.0 Command: /Library/Frameworks/R.framework/Resources/bin/R CMD INSTALL affyPLM StartedAt: 2024-10-16 15:20:04 -0400 (Wed, 16 Oct 2024) EndedAt: 2024-10-16 15:20:55 -0400 (Wed, 16 Oct 2024) EllapsedTime: 51.2 seconds RetCode: 0 Status: OK