Package: affyPLM Version: 1.80.0 Command: /Library/Frameworks/R.framework/Resources/bin/R CMD build --keep-empty-dirs --no-resave-data affyPLM StartedAt: 2024-10-16 16:59:05 -0400 (Wed, 16 Oct 2024) EndedAt: 2024-10-16 17:03:51 -0400 (Wed, 16 Oct 2024) EllapsedTime: 285.7 seconds RetCode: 0 Status: OK PackageFile: affyPLM_1.80.0.tar.gz PackageFileSize: 6.29 MiB